BEGIN:VCALENDAR
VERSION:2.0
PRODID:-//MŠ Janouchova - ECPv5.9.0//NONSGML v1.0//EN
CALSCALE:GREGORIAN
METHOD:PUBLISH
X-WR-CALNAME:MŠ Janouchova
X-ORIGINAL-URL:https://www.msjanouchova.cz
X-WR-CALDESC:Akce na MŠ Janouchova
BEGIN:VTIMEZONE
TZID:Europe/Prague
BEGIN:DAYLIGHT
TZOFFSETFROM:+0100
TZOFFSETTO:+0200
TZNAME:CEST
DTSTART:20240331T010000
END:DAYLIGHT
BEGIN:STANDARD
TZOFFSETFROM:+0200
TZOFFSETTO:+0100
TZNAME:CET
DTSTART:20241027T010000
END:STANDARD
END:VTIMEZONE
BEGIN:VEVENT
DTSTART;TZID=Europe/Prague:20241126T091500
DTEND;TZID=Europe/Prague:20241126T110000
DTSTAMP:20260426T011721
CREATED:20240903T134542Z
LAST-MODIFIED:20240903T134542Z
UID:2131-1732612500-1732618800@www.msjanouchova.cz
SUMMARY:Divadélko ve školce
DESCRIPTION:V úterý 26. listopadu\, v dopoledních hodinách\, uvidí děti ve školce pohádku „SNĚŽIBABA A ČERT“.
URL:https://www.msjanouchova.cz/kalendar/divadelko-ve-skolce-17/
CATEGORIES:K Milíčovu,kalendář,Modletická
END:VEVENT
END:VCALENDAR