BEGIN:VCALENDAR
VERSION:2.0
PRODID:-//MŠ Janouchova - ECPv5.9.0//NONSGML v1.0//EN
CALSCALE:GREGORIAN
METHOD:PUBLISH
X-WR-CALNAME:MŠ Janouchova
X-ORIGINAL-URL:https://www.msjanouchova.cz
X-WR-CALDESC:Akce na MŠ Janouchova
BEGIN:VTIMEZONE
TZID:Europe/Prague
BEGIN:DAYLIGHT
TZOFFSETFROM:+0100
TZOFFSETTO:+0200
TZNAME:CEST
DTSTART:20250330T010000
END:DAYLIGHT
BEGIN:STANDARD
TZOFFSETFROM:+0200
TZOFFSETTO:+0100
TZNAME:CET
DTSTART:20251026T010000
END:STANDARD
END:VTIMEZONE
BEGIN:VEVENT
DTSTART;TZID=Europe/Prague:20250528T090000
DTEND;TZID=Europe/Prague:20250528T110000
DTSTAMP:20260425T121730
CREATED:20240911T063656Z
LAST-MODIFIED:20240911T063656Z
UID:2164-1748422800-1748430000@www.msjanouchova.cz
SUMMARY:Divadélko ve školce
DESCRIPTION:  \nVe středu 28. května\, v dopoledních hodinách\, uvidí děti ve školce divadelní představení „MOKRÁ POHÁDKA“.
URL:https://www.msjanouchova.cz/kalendar/divadelko-ve-skolce-23/
CATEGORIES:K Milíčovu,kalendář,Modletická
END:VEVENT
END:VCALENDAR