BEGIN:VCALENDAR
VERSION:2.0
PRODID:-//MŠ Janouchova - ECPv5.9.0//NONSGML v1.0//EN
CALSCALE:GREGORIAN
METHOD:PUBLISH
X-WR-CALNAME:MŠ Janouchova
X-ORIGINAL-URL:https://www.msjanouchova.cz
X-WR-CALDESC:Akce na MŠ Janouchova
BEGIN:VTIMEZONE
TZID:Europe/Prague
BEGIN:DAYLIGHT
TZOFFSETFROM:+0100
TZOFFSETTO:+0200
TZNAME:CEST
DTSTART:20260329T010000
END:DAYLIGHT
BEGIN:STANDARD
TZOFFSETFROM:+0200
TZOFFSETTO:+0100
TZNAME:CET
DTSTART:20261025T010000
END:STANDARD
END:VTIMEZONE
BEGIN:VEVENT
DTSTART;TZID=Europe/Prague:20260506T083000
DTEND;TZID=Europe/Prague:20260506T113000
DTSTAMP:20260424T231028
CREATED:20260408T094605Z
LAST-MODIFIED:20260408T094605Z
UID:2846-1778056200-1778067000@www.msjanouchova.cz
SUMMARY:Fotografování tříd
DESCRIPTION:Ve středu 6. května se bude v dopoledních hodinách konat fotografování tříd a skupinek kamarádů. Konkrétní nabídka a ceny fotografií budou zveřejněny týden před fotografováním na nástěnkách v šatnách dětí.
URL:https://www.msjanouchova.cz/kalendar/fotografovani-trid-2/
CATEGORIES:K Milíčovu,kalendář,Modletická
END:VEVENT
END:VCALENDAR