BEGIN:VCALENDAR
VERSION:2.0
PRODID:-//MŠ Janouchova - ECPv5.9.0//NONSGML v1.0//EN
CALSCALE:GREGORIAN
METHOD:PUBLISH
X-WR-CALNAME:MŠ Janouchova
X-ORIGINAL-URL:https://www.msjanouchova.cz
X-WR-CALDESC:Akce na MŠ Janouchova
BEGIN:VTIMEZONE
TZID:Europe/Prague
BEGIN:DAYLIGHT
TZOFFSETFROM:+0100
TZOFFSETTO:+0200
TZNAME:CEST
DTSTART:20220327T010000
END:DAYLIGHT
BEGIN:STANDARD
TZOFFSETFROM:+0200
TZOFFSETTO:+0100
TZNAME:CET
DTSTART:20221030T010000
END:STANDARD
END:VTIMEZONE
BEGIN:VEVENT
DTSTART;TZID=Europe/Prague:20221020T080000
DTEND;TZID=Europe/Prague:20221020T110000
DTSTAMP:20260425T134025
CREATED:20220926T120351Z
LAST-MODIFIED:20221007T073516Z
UID:1269-1666252800-1666263600@www.msjanouchova.cz
SUMMARY:Legohrátky
DESCRIPTION:Ve čtvrtek 20. října dopoledne\, se bude ve spolupráci s Malou technickou univerzitou\, konat program pro předškoláky „Malý architekt“.
URL:https://www.msjanouchova.cz/kalendar/legohratky/
CATEGORIES:kalendář,Modletická
END:VEVENT
END:VCALENDAR