BEGIN:VCALENDAR
VERSION:2.0
PRODID:-//MŠ Janouchova - ECPv5.9.0//NONSGML v1.0//EN
CALSCALE:GREGORIAN
METHOD:PUBLISH
X-WR-CALNAME:MŠ Janouchova
X-ORIGINAL-URL:https://www.msjanouchova.cz
X-WR-CALDESC:Akce na MŠ Janouchova
BEGIN:VTIMEZONE
TZID:Europe/Prague
BEGIN:DAYLIGHT
TZOFFSETFROM:+0100
TZOFFSETTO:+0200
TZNAME:CEST
DTSTART:20240331T010000
END:DAYLIGHT
BEGIN:STANDARD
TZOFFSETFROM:+0200
TZOFFSETTO:+0100
TZNAME:CET
DTSTART:20241027T010000
END:STANDARD
END:VTIMEZONE
BEGIN:VEVENT
DTSTART;TZID=Europe/Prague:20241009T160000
DTEND;TZID=Europe/Prague:20241009T173000
DTSTAMP:20260426T024821
CREATED:20240927T083246Z
LAST-MODIFIED:20240927T083346Z
UID:2204-1728489600-1728495000@www.msjanouchova.cz
SUMMARY:Podzimní slavnost
DESCRIPTION:  \n  \nZveme  všechny rodiče a děti na podzimní slavnost\, která se bude konat 9. října od 16\,00 hodin na školní zahradě mateřské školy Janouchova.
URL:https://www.msjanouchova.cz/kalendar/podzimni-slavnost/
CATEGORIES:Janouchova,kalendář
END:VEVENT
END:VCALENDAR