BEGIN:VCALENDAR
VERSION:2.0
PRODID:-//MŠ Janouchova - ECPv5.9.0//NONSGML v1.0//EN
CALSCALE:GREGORIAN
METHOD:PUBLISH
X-WR-CALNAME:MŠ Janouchova
X-ORIGINAL-URL:https://www.msjanouchova.cz
X-WR-CALDESC:Akce na MŠ Janouchova
BEGIN:VTIMEZONE
TZID:Europe/Prague
BEGIN:DAYLIGHT
TZOFFSETFROM:+0100
TZOFFSETTO:+0200
TZNAME:CEST
DTSTART:20210328T010000
END:DAYLIGHT
BEGIN:STANDARD
TZOFFSETFROM:+0200
TZOFFSETTO:+0100
TZNAME:CET
DTSTART:20211031T010000
END:STANDARD
END:VTIMEZONE
BEGIN:VEVENT
DTSTART;TZID=Europe/Prague:20211129T000000
DTEND;TZID=Europe/Prague:20211202T000000
DTSTAMP:20260424T231640
CREATED:20211119T072921Z
LAST-MODIFIED:20211119T072921Z
UID:897-1638144000-1638403200@www.msjanouchova.cz
SUMMARY:Vánoční pečení
DESCRIPTION:V týdnu od 29. listopadu budou děti ve školce péct vánoční cukroví. V pondělí 29. listopadu budou péct cukroví dětí z červené\, zelené a žluté třídy. V úterý 30. listopadu budou péct cukroví děti z pracoviště K Milíčovu\, ve středu 1. prosince děti z 1.\, 2.\, 3. a 4. třídy pracoviště Janouchova a ve čtvrtek 2. prosince děti na pracovišti Modletická.
URL:https://www.msjanouchova.cz/kalendar/vanocni-peceni-5/
CATEGORIES:Janouchova,K Milíčovu,kalendář a hlavní stránka,Modletická
END:VEVENT
END:VCALENDAR