BEGIN:VCALENDAR
VERSION:2.0
PRODID:-//MŠ Janouchova - ECPv5.9.0//NONSGML v1.0//EN
CALSCALE:GREGORIAN
METHOD:PUBLISH
X-WR-CALNAME:MŠ Janouchova
X-ORIGINAL-URL:https://www.msjanouchova.cz
X-WR-CALDESC:Akce na MŠ Janouchova
BEGIN:VTIMEZONE
TZID:Europe/Prague
BEGIN:DAYLIGHT
TZOFFSETFROM:+0100
TZOFFSETTO:+0200
TZNAME:CEST
DTSTART:20260329T010000
END:DAYLIGHT
BEGIN:STANDARD
TZOFFSETFROM:+0200
TZOFFSETTO:+0100
TZNAME:CET
DTSTART:20261025T010000
END:STANDARD
END:VTIMEZONE
BEGIN:VEVENT
DTSTART;TZID=Europe/Prague:20260513T080000
DTEND;TZID=Europe/Prague:20260513T123000
DTSTAMP:20260424T231039
CREATED:20260414T080630Z
LAST-MODIFIED:20260414T080630Z
UID:2856-1778659200-1778675400@www.msjanouchova.cz
SUMMARY:Výlet předškoláků
DESCRIPTION:Ve středu 13. 5. pojedou předškoláci na polodenní výlet\, tramvají Měsíček dojedou do Vozovny Střešovice\, kde navštíví Muzeum městské hromadné dopravy. Podrobné informace o organizaci výletu budou rodičům podány přes aplikaci Twigsee.
URL:https://www.msjanouchova.cz/kalendar/vylet-predskolaku-9/
CATEGORIES:Janouchova,K Milíčovu,kalendář
END:VEVENT
END:VCALENDAR