BEGIN:VCALENDAR
VERSION:2.0
PRODID:-//MŠ Janouchova - ECPv5.9.0//NONSGML v1.0//EN
CALSCALE:GREGORIAN
METHOD:PUBLISH
X-WR-CALNAME:MŠ Janouchova
X-ORIGINAL-URL:https://www.msjanouchova.cz
X-WR-CALDESC:Akce na MŠ Janouchova
BEGIN:VTIMEZONE
TZID:Europe/Prague
BEGIN:DAYLIGHT
TZOFFSETFROM:+0100
TZOFFSETTO:+0200
TZNAME:CEST
DTSTART:20230326T010000
END:DAYLIGHT
BEGIN:STANDARD
TZOFFSETFROM:+0200
TZOFFSETTO:+0100
TZNAME:CET
DTSTART:20231029T010000
END:STANDARD
END:VTIMEZONE
BEGIN:VEVENT
DTSTART;TZID=Europe/Prague:20230920T090000
DTEND;TZID=Europe/Prague:20230920T110000
DTSTAMP:20260425T141819
CREATED:20230907T133248Z
LAST-MODIFIED:20230907T133359Z
UID:1673-1695200400-1695207600@www.msjanouchova.cz
SUMMARY:Výukový program
DESCRIPTION:Ve spolupráci s Malou technickou univerzitou jsme pro starší děti připravili výukový program „Malý vodohospodář.“ Program se bude konat ve středu 20. září v dopoledních hodinách.
URL:https://www.msjanouchova.cz/kalendar/vyukovy-program-4/
CATEGORIES:kalendář,Modletická
END:VEVENT
END:VCALENDAR